Workbook

Sheet 应聘人员信息表
B1: 附件2
B2: 德宏州基础设施投资有限公司《应聘人员信息表》 | L2: 请注意： | M2: 1、本表须如实填写； 2、严禁修改此表原有格式； 3、除此表外，还须同步提交有本人签字及照片的PDF扫描版本； 4、另须同步提交以下报名材料扫描件： (1)身份证、毕业证、学位证、近期免冠证件照； (2)职业(执业)资格证书、专业技术职称证书、获奖证书等相关证明材料(如有)； (3)其他可证明工作能力的材料。 5.所有报名材料请按顺序排序整理，全部打包在一个压缩包内作为邮件附件，压缩包命名与邮件主题一致。 6.报名材料不齐全、不清晰或未按要求命名提交的，一律视为不符合要求，不予进行资格审查。 7.请勿重复提交应聘材料，如报名资料有修改的，则只需要提交修改的资料，并在邮件正文中说明修改的地方。资料有补充的，只需提交补充材料，并在邮件正文中说明补充材料。 8.报名截止后不再接受任何形式的材料补充与修改；因本人填报信息错误、材料不全、未按要求提交导致无法通过资格审查的，后果由应聘人员自行承担。 9.每名应聘者只能报考1个岗位，不得重复报名；
B3: 姓名 | D3: 性别 | F3: 出生年月 | H3: 民族 | J3: 照片
B4: 政治面貌 | D4: 健康状况 | G4: 婚姻状况
B5: 最高学历 | D5: 毕业院校 | G5: 专业
B6: 参加工作时间 | F6: 职业（职称）资格
B7: 应聘岗位 （下拉选项） | F7: 身份证号码
B8: 户口所在地址 | F8: 现家庭住址
B9: 手机号码 | F9: 电子邮箱
B10: 紧急联系人姓名 | F10: 紧急联系人电话
B11: 教育背景（从高中阶段填起，2个月以上的继续教育请填报）
B12: 起 | C12: 止 | D12: 学校或教育机构名称 | F12: 专业 | H12: 学历 | I12: 证明人 | J12: 联系方式
A13: =IF(B13="","",(ROW()-12)&".") | K13: =IF(A13="","",_xlfn.TEXTJOIN(" ",1,A13:H13))
A14: =IF(B14="","",(ROW()-12)&".") | K14: =IF(A14="","",_xlfn.TEXTJOIN(" ",1,A14:H14))
A15: =IF(B15="","",(ROW()-12)&".") | K15: =IF(A15="","",_xlfn.TEXTJOIN(" ",1,A15:H15))
A16: =IF(B16="","",(ROW()-12)&".") | K16: =IF(A16="","",_xlfn.TEXTJOIN(" ",1,A16:H16))
A17: =IF(B17="","",(ROW()-12)&".") | K17: =IF(A17="","",_xlfn.TEXTJOIN(" ",1,A17:H17))
B18: 主要工作经历 | K18: =_xlfn.TEXTJOIN(CHAR(10),1,K13:K17)
B19: 起 | C19: 止 | D19: 工作单位 | F19: 职位 | G19: 主要职责 | I19: 直接上级 | J19: 联系方式
A20: =IF(B20="","",(ROW()-19)&".") | K20: =IF(A20="","",_xlfn.TEXTJOIN(" ",1,A20:F20))
A21: =IF(B21="","",(ROW()-19)&".") | K21: =IF(A21="","",_xlfn.TEXTJOIN(" ",1,A21:F21))
A22: =IF(B22="","",(ROW()-19)&".") | K22: =IF(A22="","",_xlfn.TEXTJOIN(" ",1,A22:F22))
A23: =IF(B23="","",(ROW()-19)&".") | K23: =IF(A23="","",_xlfn.TEXTJOIN(" ",1,A23:F23))
A24: =IF(B24="","",(ROW()-19)&".") | K24: =IF(A24="","",_xlfn.TEXTJOIN(" ",1,A24:F24))
A25: =IF(B25="","",(ROW()-19)&".") | K25: =IF(A25="","",_xlfn.TEXTJOIN(" ",1,A25:F25))
A26: =IF(B26="","",(ROW()-19)&".") | K26: =IF(A26="","",_xlfn.TEXTJOIN(" ",1,A26:F26))
A27: =IF(B27="","",(ROW()-19)&".") | K27: =IF(A27="","",_xlfn.TEXTJOIN(" ",1,A27:F27))
A28: =IF(B28="","",(ROW()-19)&".") | K28: =IF(A28="","",_xlfn.TEXTJOIN(" ",1,A28:F28))
A29: =IF(B29="","",(ROW()-19)&".") | K29: =IF(A29="","",_xlfn.TEXTJOIN(" ",1,A29:F29))
A30: =IF(B30="","",(ROW()-19)&".") | K30: =IF(A30="","",_xlfn.TEXTJOIN(" ",1,A30:F30))
A31: =IF(B31="","",(ROW()-19)&".") | K31: =IF(A31="","",_xlfn.TEXTJOIN(" ",1,A31:F31))
... A34: =IF(B34="","",(ROW()-19)&".") | K34: =IF(A34="","",_xlfn.TEXTJOIN(" ",1,A34:F34))
B35: 工作期间取得的主要业绩及获奖情况 | K35: =_xlfn.TEXTJOIN(CHAR(10),1,K20:K34)
B37: 家庭 主要 成员 | C37: 姓名 | D37: 与本人关系 | E37: 年龄 | F37: 政治面貌 | G37: 工作单位
B42: 个人声明 | C42: 注：以上所有栏目均如实填写，若涉嫌提供虚假信息或履历造假，公司 在任何时候均可解除劳动关系而无须承担任何责任或进行任何补偿。 | I42: 本人签字

Sheet Sheet2
A1: 单位 | B1: 岗位名称 | C1: 姓名 | D1: 身份证号 | E1: 年龄 | F1: 性别 | G1: 出生年月 | H1: 民族 | I1: 政治面貌 | J1: 健康状况 | K1: 婚姻状况 | L1: 最高学历 | M1: 毕业院校 | N1: 专业 | O1: 参加工作时间 | P1: 职业（职称）资格 | Q1: 户口所在地 | R1: 现家庭住址 | S1: 手机号码 | T1: 邮箱号码 | U1: 紧急联系人 | V1: 紧急联系人电话 | W1: 教育背景 | X1: 工作经验 | Y1: 工作期间取得的主要业绩及获奖情况
A2: 德宏州基础设施投资有限公司 | B2: =IF(应聘人员信息表!D7="","",应聘人员信息表!D7) | C2: =IF(应聘人员信息表!C3="","",应聘人员信息表!C3) | D2: =IF(应聘人员信息表!H7="","",应聘人员信息表!H7) | E2: =IF(D2="","",DATEDIF(TEXT(MID(D2,7,8),"0-00-00"),TODAY(),"Y")) | F2: =IF(应聘人员信息表!E3="","",应聘人员信息表!E3) | G2: =IF(应聘人员信息表!G3="","",应聘人员信息表!G3) | H2: =IF(应聘人员信息表!I3="","",应聘人员信息表!I3) | I2: =IF(应聘人员信息表!C4="","",应聘人员信息表!C4) | J2: =IF(应聘人员信息表!E4="","",应聘人员信息表!E4) | K2: =IF(应聘人员信息表!H4="","",应聘人员信息表!H4) | L2: =IF(应聘人员信息表!C5="","",应聘人员信息表!C5) | M2: =IF(应聘人员信息表!E5="","",应聘人员信息表!E5) | N2: =IF(应聘人员信息表!H5="","",应聘人员信息表!H5) | O2: =IF(应聘人员信息表!D6="","",应聘人员信息表!D6) | P2: =IF(应聘人员信息表!H6="","",应聘人员信息表!H6) | Q2: =IF(应聘人员信息表!D8="","",应聘人员信息表!D8) | R2: =IF(应聘人员信息表!H8="","",应聘人员信息表!H8) | S2: =IF(应聘人员信息表!D9="","",应聘人员信息表!D9) | T2: =IF(应聘人员信息表!H9="","",应聘人员信息表!H9) | U2: =IF(应聘人员信息表!D10="","",应聘人员信息表!D10) | V2: =IF(应聘人员信息表!H10="","",应聘人员信息表!H10) | W2: =IF(应聘人员信息表!K18="","",应聘人员信息表!K18) | X2: =IF(应聘人员信息表!K35="","",应聘人员信息表!K35) | Y2: =IF(应聘人员信息表!B36="","",应聘人员信息表!B36)

Sheet Sheet1
A1: 单位 | B1: 岗位
B2: 董事会办公室综合文秘
B3: 财务管理中心 主办会计
B4: 财务管理中心财务人员
