Workbook

Sheet 增人计划
A1: 暨南大学附属广州红十字会医院2027年招聘计划（第一批）
A2: 序号 | B2: 岗位名称 | C2: 招聘人数 | D2: 招聘人员类型 | E2: 专业名称 | F2: 学历学位要求 | G2: 年龄要求 | H2: 专业技术资格要求 | I2: 是否要求有规培证 | J2: 其他要求
A3: 1 | B3: 肾病科医师 | C3: 2 | D3: 不限 | E3: 内科学 | F3: 博士研究生; 博士 | G3: 35周岁及以下 | H3: 医师及以上 | I3: 否
A4: 2 | B4: 风湿免疫医师 | C4: 1 | D4: 不限 | E4: 内科学 | F4: 博士研究生; 博士 | G4: 40周岁及以下 | H4: 主治医师及以上 | I4: 否
A5: 3 | B5: 内分泌代谢科医师 | C5: 2 | D5: 2027年应届毕业生 | E5: 内科学 | F5: 博士研究生; 博士 | G5: 35周岁及以下 | H5: 医师及以上 | I5: 否
A6: 4 | B6: 呼吸与危重症医学科医师 | C6: 1 | D6: 不限 | E6: 内科学 | F6: 博士研究生; 博士 | G6: 35周岁及以下 | H6: 医师及以上 | I6: 否 | J6: 熟练掌握纤维支气管镜操作优先
A7: 5 | B7: 消化内科医师 | C7: 1 | D7: 不限 | E7: 内科学 | F7: 博士研究生; 博士 | G7: 35周岁及以下 | H7: 医师及以上 | I7: 否 | J7: 副主任医师及以上优先，副高职称及以上年龄可放宽至40周岁。
A8: 6 | B8: 临床营养科医师 | C8: 1 | D8: 不限 | E8: 内科学 | F8: 博士研究生; 博士 | G8: 35周岁及以下 | H8: 医师及以上 | I8: 否 | J8: 要求为临床方向
A9: 7 | B9: 中医科医师 | C9: 1 | D9: 不限 | E9: 中医学、中医内科学、中医外科学、中西医结合临床、针灸推拿学 | F9: 博士研究生; 博士 | G9: 35周岁及以下 | H9: 医师及以上 | I9: 是
A10: 8 | B10: 全科医学科医师 | C10: 1 | D10: 不限 | E10: 内科学 | F10: 博士研究生; 博士 | G10: 35周岁及以下 | H10: 医师及以上 | I10: 否 | J10: 全国大学生英语六级考试（CET6）425分及以上，口语流利。
A11: 9 | B11: 神经内科医师1 | C11: 1 | D11: 不限 | E11: 神经病学 | F11: 博士研究生; 博士 | G11: 35周岁及以下 | H11: 医师及以上 | I11: 否
A12: 10 | B12: 神经内科医师2 | C12: 1 | D12: 不限 | E12: 神经病学 | F12: 硕士研究生及以上; 硕士及以上 | G12: 40周岁及以下 | H12: 副主任医师及以上 | I12: 是 | J12: 要求为介入方向
A13: 11 | B13: 康复医学科医师 | C13: 1 | D13: 不限 | E13: 康复医学与理疗学 | F13: 博士研究生; 博士 | G13: 35周岁及以下 | H13: 医师及以上 | I13: 否
A14: 12 | B14: 康复医学科技师 | C14: 1 | D14: 不限 | E14: 康复治疗学、康复医学与理疗学、医学技术（康复方向）、针灸推拿学 | F14: 本科及以上; 学士及以上 | G14: 30周岁及以下 | H14: 康复治疗师 | I14: 否 | J14: 硕士博士优先
A15: 13 | B15: 心血管内科医师1 | C15: 2 | D15: 不限 | E15: 内科学 | F15: 博士研究生; 博士 | G15: 35周岁及以下 | H15: 医师及以上 | I15: 否 | J15: 结构性心脏病或心脏电生理方向优先
A16: 14 | B16: 心血管内科医师2 | C16: 1 | D16: 不限 | E16: 内科学 | F16: 硕士研究生及以上; 硕士及以上 | G16: 30周岁及以下 | H16: 医师及以上 | I16: 是 | J16: 心电或心脏康复方向优先
A17: 15 | B17: 胃肠肛肠外科医师 | C17: 1 | D17: 2027年应届毕业生 | E17: 外科学 | F17: 硕士研究生及以上; 硕士及以上 | G17: 30周岁及以下 | H17: 医师及以上 | I17: 是
A18: 16 | B18: 麻醉手术科医师1 | C18: 2 | D18: 2027年应届毕业生 | E18: 麻醉学 | F18: 博士研究生; 博士 | G18: 35周岁及以下 | H18: 医师及以上 | I18: 否
A19: 17 | B19: 麻醉手术科医师2 | C19: 2 | D19: 2027年应届毕业生 | E19: 麻醉学 | F19: 硕士研究生及以上; 硕士及以上 | G19: 30周岁及以下 | H19: 医师及以上 | I19: 是
A20: 18 | B20: 麻醉手术科医师3 | C20: 2 | D20: 非2027年毕业的往届生 | E20: 麻醉学 | F20: 硕士研究生及以上; 硕士及以上 | G20: 35周岁及以下 | H20: 主治医师及以上 | I20: 是
A21: 19 | B21: 烧伤整形科烧伤重症医学病区医师 | C21: 1 | D21: 不限 | E21: 外科学 | F21: 博士研究生; 博士 | G21: 35周岁及以下 | H21: 医师及以上 | I21: 否
A22: 20 | B22: 烧伤整形科烧伤与创面修复病区医师 | C22: 1 | D22: 不限 | E22: 外科学 | F22: 博士研究生; 博士 | G22: 35周岁及以下 | H22: 医师及以上 | I22: 否
A23: 21 | B23: 烧伤整形科整形美容显微病区医师 | C23: 2 | D23: 不限 | E23: 外科学 | F23: 博士研究生; 博士 | G23: 35周岁及以下 | H23: 医师及以上 | I23: 否
A24: 22 | B24: 关节外科与运动医学科医师 | C24: 1 | D24: 不限 | E24: 骨科学 | F24: 硕士研究生及以上; 硕士及以上 | G24: 35周岁及以下 | H24: 医师及以上 | I24: 是
A25: 23 | B25: 创伤骨科中医正骨科医师 | C25: 1 | D25: 不限 | E25: 骨科学/中医骨伤科学 | F25: 硕士研究生及以上; 硕士及以上 | G25: 45周岁及以下 | H25: 副主任医师及以上 | I25: 是 | J25: 要求为小儿骨科方向
A26: 24 | B26: 耳鼻咽喉头颈外科医师 | C26: 1 | D26: 2027年应届毕业生 | E26: 耳鼻咽喉科学 | F26: 硕士研究生及以上; 硕士及以上 | G26: 30周岁及以下 | H26: 医师及以上 | I26: 是 | J26: 要求为耳听力筛查方向
A27: 25 | B27: 口腔科医师 | C27: 1 | D27: 不限 | E27: 口腔医学 | F27: 硕士研究生及以上; 硕士及以上 | G27: 45周岁及以下 | H27: 副主任医师及以上 | I27: 是 | J27: 要求具有硕导资格
A28: 26 | B28: 皮肤科医师 | C28: 1 | D28: 不限 | E28: 皮肤病与性病学 | F28: 博士研究生; 博士 | G28: 50周岁及以下 | H28: 主任医师 | I28: 否 | J28: 要求具有硕导资格
A29: 27 | B29: 急诊医学科医师 | C29: 1 | D29: 2027年应届毕业生 | E29: 急诊医学科、重症医学 | F29: 硕士研究生及以上; 硕士及以上 | G29: 30周岁及以下 | H29: 医师及以上 | I29: 是
A30: 28 | B30: 药学部中药房中药师 | C30: 1 | D30: 2027年应届毕业生 | E30: 中药学 | F30: 硕士研究生及以上; 硕士及以上 | G30: 30周岁及以下 | H30: 无 | I30: 否
A31: 29 | B31: 药学部临床药学科药师 | C31: 1 | D31: 不限 | E31: 药理学、药学、临床药学 | F31: 博士研究生; 博士 | G31: 35周岁及以下 | H31: 无 | I31: 否
A32: 30 | B32: 放射科医师 | C32: 2 | D32: 不限 | E32: 影像医学与核医学 | F32: 博士研究生; 博士 | G32: 35周岁及以下 | H32: 医师及以上 | I32: 否
A33: 31 | B33: 放射科技师 | C33: 2 | D33: 不限 | E33: 医学影像技术 | F33: 本科及以上; 学士及以上 | G33: 30周岁及以下 | H33: 技师 | I33: 否
A34: 32 | B34: 超声科医师 | C34: 2 | D34: 2027年应届毕业生 | E34: 影像医学与核医学 | F34: 博士研究生; 博士 | G34: 35周岁及以下 | H34: 医师及以上 | I34: 否
A35: 33 | B35: 运营部医保办科员 | C35: 1 | D35: 2027年应届毕业生 | E35: 公共卫生硕士（专业硕士） | F35: 硕士研究生及以上; 硕士及以上 | G35: 30周岁及以下 | H35: 无 | I35: 否 | J35: 要求为医保方向。
A36: 34 | B36: 医务科医患关系协调办公室科员 | C36: 1 | D36: 不限 | E36: 临床医学、法学 | F36: 硕士研究生及以上; 硕士及以上 | G36: 35周岁及以下 | H36: 无 | I36: 否 | J36: 医学法律方向或具有三甲医院工作经历优先。
A37: 35 | B37: 护理部护士1 | C37: 若干 | D37: 2027年应届毕业生 | E37: 护理学 | F37: 本科及以上; 学士及以上 | G37: 28周岁及以下 | H37: 护士 | I37: 否 | J37: 1.要求为高中起点的本科及以上学历学位； 2.已通过护士资格考试或已获得护理专业初级及以上专业技术资格。
A38: 36 | B38: 护理部护士2 | C38: 若干 | D38: 2027年应届毕业生 | E38: 护理学 | F38: 硕士研究生及以上; 硕士及以上 | G38: 30周岁及以下 | H38: 护士 | I38: 否 | J38: 已通过护士资格考试或已获得护理专业初级及以上专业技术资格

Sheet 护理
A1: 2027年增人需求调查表
A2: 序号 | B2: 科室 | C2: 病区 | D2: 申报岗位名称 | E2: 岗位类型 | F2: 招聘人数 | G2: 编制 | J2: 招聘人员类型 | K2: 专业名称 | N2: 学历要求 | O2: 学位要求 | P2: 年龄要求 | Q2: 专业技术资格要求 | R2: 是否要求有规培证 | S2: 其他要求 | T2: 增人原因
G3: 编内 | H3: 编外 | I3: 劳务派遣 | K3: 研究生 | L3: 本科 | M3: 专科
A4: 1 | B4: 康复医学科 | C4: 康复医学科一区 | D4: 护士 | E4: 专业技术岗位 | F4: 4 | G4: 4 | J4: 2027年应届毕业生 | K4: 护理学 | N4: 硕士研究生及以上 | O4: 硕士及以上 | P4: 30周岁及以下 | Q4: 护士 | R4: 否 | T4: 科室增设脑机接口病床14张，病区共开放床位53张； 2026年、2027年共有3名护士退休。
A5: 2 | B5: 康复医学科 | C5: 康复医学科一区 | D5: 护士 | E5: 专业技术岗位 | F5: 6 | H5: 6 | J5: 2027年应届毕业生 | L5: 护理学 | N5: 本科 | O5: 学士及以上 | P5: 30周岁及以下 | Q5: 护士 | R5: 否
A6: 1 | B6: 烧伤整形科 | C6: 烧伤ICU | D6: 护士 | E6: 专业技术岗位 | F6: 1 | H6: 1 | J6: 2027年应届毕业生 | L6: 护理 | N6: 本科及以上 | O6: 学士及以上 | T6: 赵淑婷2027年7月1日退休，补充人员
A7: 1 | B7: 血液内科 | C7: 血液内科 | D7: 护士 | E7: 专业技术岗位 | F7: 6 | H7: 6 | J7: 不限 | L7: 护理学 | N7: 本科 | O7: 学士 | P7: 无 | Q7: 护士 | R7: 否 | T7: 科室移植病房业务发展，床位由3张扩至5张，按照《造血干细胞移植技术管理规范（2017年版）》护理人力1:2配比，需增加6名护士。
A8: 1 | B8: 产科 | C8: 产科 | D8: 助产士 | E8: 专业技术岗位 | F8: 1 | H8: 1 | J8: 不限 | L8: 护理学 | N8: 本科及以上 | O8: 学士及以上 | P8: 30周岁及以下 | Q8: 护士 | R8: 否 | S8: 优先在产科工作的助产士（目前在它科工作） | T8: 2027年8月人员退休补充后备人才
A9: 2 | B9: 产科 | C9: 产科 | D9: 助产士 | E9: 专业技术岗位 | F9: 1 | G9: 1 | J9: 不限 | K9: 护理 | N9: 硕士研究生 | O9: 硕士 | P9: 30周岁及以下 | Q9: 护士 | R9: 否 | S9: 有产房工作经验 | T9: 储备人才，稳定助产士专科队伍
A10: 1 | B10: 泌尿外科 | D10: 护理1 | E10: 专业技术岗位 | F10: 1 | G10: 1 | J10: 不限 | L10: 护理学 | N10: 本科 | O10: 学士 | P10: 30周岁及以下 | Q10: 护士 | R10: 否 | T10: 明年退休4名护士
A11: 2 | B11: 泌尿外科 | D11: 护理2 | E11: 专业技术岗位 | F11: 1 | G11: 1 | J11: 不限 | L11: 护理学 | N11: 本科 | O11: 学士 | P11: 30周岁及以下 | Q11: 护士 | R11: 否 | T11: 明年退休4名护士
A12: 3 | B12: 泌尿外科 | D12: 护理3 | E12: 专业技术岗位 | F12: 1 | G12: 1 | J12: 不限 | M12: 护理学 | N12: 大专 | O12: 无 | P12: 30周岁及以下 | Q12: 护士 | R12: 否 | T12: 明年退休4名护士
A13: 4 | B13: 泌尿外科 | D13: 护理3 | E13: 专业技术岗位 | F13: 1 | G13: 1 | J13: 不限 | L13: 护理学 | N13: 本科 | O13: 学士 | P13: 30周岁及以下 | Q13: 护士 | R13: 否 | T13: 明年退休4名护士
A14: 1 | B14: 儿科 | C14: NICU | D14: 护理 | E14: 专业技术岗位 | F14: 1 | H14: 1 | J14: 不限 | L14: 护理 | N14: 本科 | O14: 学士 | P14: 30周岁及以下 | Q14: 护士 | R14: 否 | S14: 优先选择曾在NICU工作的护士（目前在别科工作） | T14: 2027.9月退休补充人员
A15: 2 | B15: 儿科 | C15: NICU | D15: 护理 | E15: 专业技术岗位 | F15: 1 | H15: 1 | J15: 不限 | L15: 护理 | N15: 本科 | O15: 学士 | P15: 30周岁及以下 | Q15: 护士 | R15: 否 | S15: 优先选择曾在NICU工作的护士（目前在别科工作） | T15: 目前配置人数无法满足临床工作需求
A16: 1 | B16: 消毒供应中心 | D16: 护士1 | E16: 专业技术岗位 | F16: 1 | G16: 不限 | J16: 不限 | K16: 不限 | N16: 不限 | O16: 不限 | P16: 45周岁及以下 | Q16: 护理 | R16: 否 | S16: 具有手术室工作经验优先 | T16: 周四群2027.4退休补充人员
A17: 2 | D17: 护士2 | E17: 专业技术岗位 | F17: 1 | G17: 不限 | J17: 不限 | K17: 不限 | N17: 不限 | O17: 不限 | P17: 45周岁及以下 | Q17: 护理 | R17: 否 | T17: 张志贞2027.10退休补充人员
A18: 3 | D18: 护士3 | E18: 专业技术岗位 | F18: 1 | G18: 不限 | J18: 不限 | K18: 不限 | N18: 不限 | O18: 不限 | P18: 45周岁及以下 | Q18: 护理 | R18: 否 | T18: 林晓虹2027.11退休补充人员
A19: 1 | B19: 麻醉手术科 | C19: 手术室 | D19: 护士 | E19: 专业技术岗位 | F19: 1 | G19: 1 | J19: 2027年应届毕业生 | L19: 护理学 | N19: 本科及以上 | O19: 学士及以上 | P19: 35周岁及以下 | Q19: 无 | R19: 否 | T19: 胡素芬2027年退休，补充人员
A20: 2 | B20: 麻醉手术科 | C20: 手术室 | D20: 护士 | E20: 专业技术岗位 | F20: 1 | G20: 1 | J20: 不限 | L20: 护理学 | N20: 本科及以上 | O20: 学士及以上 | P20: 35周岁及以下 | Q20: 无 | R20: 否 | S20: 具有两年及以上三甲医院工作经历 | T20: 王文芳2027年退休，补充人员
A21: 3 | B21: 麻醉手术科 | C21: 手术室 | D21: 护士 | E21: 专业技术岗位 | F21: 1 | H21: 1 | J21: 不限 | L21: 护理学 | N21: 本科及以上 | O21: 学士及以上 | P21: 35周岁及以下 | Q21: 无 | R21: 否 | T21: 科室增加门诊手术室2个手术间
A22: 4 | B22: 麻醉手术科 | C22: 手术室 | D22: 护士 | E22: 专业技术岗位 | F22: 3 | H22: 3 | J22: 不限 | L22: 护理学 | N22: 本科及以上 | O22: 学士及以上 | P22: 35周岁及以下 | Q22: 无 | R22: 否 | T22: 科室增加门诊手术室2个手术间，预麻室开展麻醉诱导麻醉护理，2026年手术量同比增加13%，补充护士3名
A23: 5 | B23: 麻醉手术科 | C23: 手术室 | D23: 护士 | E23: 专业技术岗位 | F23: 10 | H23: 10 | J23: 不限 | L23: 护理学 | N23: 本科及以上 | O23: 学士及以上 | P23: 35周岁及以下 | Q23: 无 | R23: 否 | T23: 2027年手术室扩建
A24: 1 | B24: 创伤骨科 | C24: 创伤与中医正骨病区 | D24: 护士 | E24: 专业技术岗位 | F24: 1 | H24: 1 | J24: 2027年应届毕业生 | L24: 护理学 | N24: 本科及以上 | O24: 学士及以上 | P24: 30周岁及以下 | Q24: 护士 | R24: 否 | T24: 刘银肖退休补充人员
A25: 1 | B25: 神经外科、介入科、精神心理科 | C25: 神经外科介入心理病区 | D25: 护理 | E25: 专业技术岗位 | F25: 2 | G25: 1 | H25: 1 | J25: 不限 | K25: 护理学 | L25: 护理学 | N25: 本科及以上 | O25: 学士及以上 | P25: 30周岁及以下 | Q25: 护士 | R25: 否 | T25: 2024年病区床位使用率73.07%； 2025年病区床位使用率81.66%； 2026年1月-7月病区床位使用率85.57%； 2024年手术台数473台，四级手术125台，神经外科CMI值2.65，介入科CMI值2.53， 2025年手术台数572台，四级手术100台，神经外科CMI值2.09，介入科CMI值2.43； 2026年1月至7月手术台数378台，四级93台，神经外科CMI值2.20，介入科CMI值2.02。 近三年来，病区床位使用率的增长，手术例数增长，四级手术例数增长，CMI值高于全院平均水平，现申请增加2名护士。
A26: 2 | B26: 神经外科 | C26: 神经外科重症监护室 | D26: 护理 | E26: 专业技术岗位 | F26: 2 | H26: 2 | J26: 不限 | L26: 护理学 | N26: 本科 | O26: 学士 | P26: 30周岁及以下 | Q26: 护士 | R26: 否 | S26: 有神经外科重症工作经验优先录用。 | T26: 神经外科重症监护室开放床位8张，床位使用率达90%以上，目前床护比1:1.3，临床护士有10人，现临床护理工作量巨大，护士经常拖班，调研广州市四家三甲医院神经外科重症监护室床护比为1:2.0-2.5。结合科室临床实际护理工作情况，申请床护比1:2.0，现需要增加2名护士。
A27: 1 | B27: 关节运医 | C27: 关节运医 | D27: 护理 | E27: 专业技术岗位 | F27: 2 | H27: 2 | J27: 不限 | L27: 护理学 | N27: 本科及以上 | O27: 学士及以上 | P27: 30周岁及以下 | Q27: 护理 | R27: 否 | T27: 床位使用率2024年66.67%、2025年70.20%、2026年上半年85.9%； 手术量：2024年：819台；2025年：730台； 26年上半年464台。科内现有3名护士分别将于2028.5、2028.11（2年内）退休，2025年人员14人能增加中医治疗400例，自减岗后，2026年中医治疗从第一季度完成30例，到第二季度零开展，严重影响科室发展及增效原则，更无法开展互联网+以及外派护士学习等。
A28: 2 | B28: 口腔科 | C28: 口腔 | D28: 专业技术岗位 | E28: 专业技术岗位 | F28: 1 | H28: 1 | J28: 不限 | L28: 护理学 | N28: 本科 | O28: 学士 | Q28: 护士 | R28: 否 | T28: 周小彤2027年4月退休补充人员
A29: 1 | B29: 重症医学科 | C29: 重症医学科二区 | D29: 护理 | E29: 专业技术岗位 | F29: 15 | G29: 4 | H29: 11 | J29: 2027年应届毕业生 | L29: 护理学 | N29: 本科及以上 | O29: 学士及以上 | P29: 30周岁及以下 | Q29: 护士 | T29: 目前科室床位10张，护士17人，计划增加床位至15张，按照1:2.2的比例，需要护士33人，缺口16人。
B30: 重症医学科 | C30: 重症医学科二区 | D30: 护理 | E30: 专业技术岗位 | F30: 1 | G30: 1 | J30: 2027年应届毕业生 | K30: 护理学 | N30: 硕士研究生及以上 | O30: 硕士及以上 | P30: 30周岁及以下 | Q30: 护师
A31: 1 | B31: 急诊医学科 | C31: EICU | D31: 护士 | E31: 专业技术岗位 | F31: 1 | G31: 1 | J31: 不限 | K31: 护理学 | N31: 硕士研究生及以上 | O31: 硕士及以上 | P31: 30周岁及以下 | Q31: 护师 | S31: 以第一作者或通讯作者在SCI或核心期刊发表文章3篇以上，或以第一负责人完成市级以上课题1项以上。 | T31: 我科编制床位9张，实际开放床位长期维持在12张，目前护士22名，按床护比1：2.5—3.0，应配置护士23—27人，现开展ECMO和复杂血液净化新业务，申请补充护士1名，提升我科护理业务水平和学术水平。
A32: 1 | B32: 眼科 | C32: 眼、口腔科病区 | D32: 护理 | E32: 专业技术岗位 | F32: 1 | H32: 1 | J32: 2027年应届毕业生 | L32: 护理 | N32: 本科 | O32: 学士 | P32: 30周岁及以下 | Q32: 护士 | R32: 否 | T32: 2027.9杨艳华退休补充人员
A33: 1 | B33: 中心注射室 | C33: 日间化疗中心 | D33: 护理 | E33: 专业技术岗位 | F33: 3 | J33: 不限 | L33: 护理学 | N33: 本科 | O33: 学士 | P33: 40周岁及以下 | R33: 否 | T33: 1、日间化疗中心即将成立，工作时间8:00-18:00，需要护士1.4名。日间化疗中心与中心注射室比邻，初定统筹使用护士。 2、根据2026年上半年工作量测算（包括门诊静脉注射、肌肉注射、皮下注射和皮内注射业务内容），需要2.5名护士。 3、检验科计划取消门诊成人末梢采血业务，这部分业务将转为中心注射室的静脉采血业务，每天增加静脉采血约100人次，需要护士0.7名。 4、加上护士年假及节假日时间，共需护士6.5名，现有护士5名，其中一名（谭肖银）将于2027年退休，共缺2.5名护士，申请补充护士3名。
A34: 2 | B34: 患者服务管理部 | C34: 入院准备中心 | D34: 护理 | E34: 专业技术岗位 | F34: 1 | J34: 非2027年毕业的往届生 | L34: 护理学 | N34: 本科 | O34: 学士 | P34: 40周岁及以下 | R34: 否 | S34: 具有临床工作经验，熟悉医院及病房运作 | T34: 1、入院准备中心业务包括全院床位管理和预住院手续一站式办理。2026上半年全院床位使用率达81.64%，较去年同期增加5.01个百分点，中心完成跨区调配1438人次，较去年同比增长53.30%。随着2027年病房改造提升项目动工，中心的工作量和工作难度预计会显著增加。 2、医院准备开设会诊转诊服务中心，计划与入院准备中心统筹使用人力。 3、参考同行经验，申请补充1位具有临床工作经验的护士，能对入院患者进行病情初步评估，且熟悉医院及病房运作，能高效完成床位调配和双向转诊的沟通协调工作，提升服务质效。
A35: 1 | B35: 耳鼻咽喉头颈外科 | C35: 耳鼻咽喉头颈外科一区 | D35: 护理1 | E35: 专业技术岗位 | F35: 1 | G35: 1 | J35: 不限 | K35: 护理学 | N35: 硕士研究生 | O35: 硕士 | P35: 30周岁及以下 | Q35: 护士 | R35: 否 | T35: 许春静2027.8退休，补充人员
A36: 1 | B36: 耳鼻咽喉头颈外科 | C36: 耳鼻咽喉头颈外科一区 | D36: 护理2 | E36: 专业技术岗位 | F36: 1 | H36: 1 | J36: 不限 | L36: 护理学 | N36: 本科 | O36: 学士 | P36: 30周岁及以下 | Q36: 护士 | R36: 否 | T36: 辛蓉2027.10退休，补充人员
A37: 1 | B37: 疼痛皮肤科 | C37: 疼痛皮肤病区 | D37: 护士 | E37: 专业技术岗位 | F37: 1 | H37: 1 | J37: 不限 | L37: 护理学 | N37: 本科 | O37: 学士 | P37: 30周岁及以下 | Q37: 护士执业资格证 | R37: 否 | T37: 疼痛皮肤病区退休补充人员

Sheet 26-28年退休
A1: 序号 | B1: 下设部门 | C1: 人员库 | D1: 工号 | E1: 姓名 | F1: 性别 | G1: 出生年月 | H1: 个人身份 | I1: 专业技术资格名称 | J1: 取得资格时间 | K1: 聘任起始时间 | L1: 高中初 | M1: 岗位分类 | N1: 职务名称 | O1: 弹性退休时间 | P1: 确认退休时间
A2: 7 | B2: 图书馆 | C2: 在职 | D2: 0356 | E2: 王彦 | F2: 女 | G2: =VLOOKUP(E2,[1]Sheet1!$F:$L,7,0) -> 1971-08 | H2: 正式干部 | I2: 图书资料副研究馆员 | J2: 2012-10-01 | K2: 2013-06-30 | L2: 副高 | M2: 图书档案 | N2: 图书馆馆长 | O2: 2027年1月退休 | P2: =VLOOKUP(D2,[2]人员信息!$B$1:$D$65536,3,FALSE) -> 2026-08-31
A3: 8 | B3: 康复病区 | C3: 在职 | D3: 1457 | E3: 林苇嘉 | F3: 女 | G3: =VLOOKUP(E3,[1]Sheet1!$F:$L,7,0) -> 1971-08 | H3: 正式干部 | I3: 主管护师 | J3: 2010-05-30 | K3: 2011-09-26 | L3: 中级 | M3: 护理 | O3: 2027年1月退休 | P3: =VLOOKUP(D3,[2]人员信息!$B$1:$D$65536,3,FALSE) -> 2026-08-31
A4: 9 | B4: 内科六病区 | C4: 在职 | D4: 1458 | E4: 黄婉妍 | F4: 女 | G4: =VLOOKUP(E4,[1]Sheet1!$F:$L,7,0) -> 1971-09 | H4: 正式干部 | I4: 主管护师 | J4: 2003-11-23 | K4: 2010-12-14 | L4: 中级 | M4: 护理 | N4: 内科六病区护士长 | O4: 2027年3月退休 | P4: =VLOOKUP(D4,[2]人员信息!$B$1:$D$65536,3,FALSE) -> 2026-09-30
A5: 10 | B5: 消毒供应中心 | C5: 在职 | D5: 1465 | E5: 杨跃娜 | F5: 女 | G5: =VLOOKUP(E5,[1]Sheet1!$F:$L,7,0) -> 1971-09 | H5: 正式干部 | I5: 主管护师 | J5: 2011-05-29 | L5: 中级 | M5: 护理 | O5: 2027年3月退休 | P5: =VLOOKUP(D5,[2]人员信息!$B$1:$D$65536,3,FALSE) -> 2026-09-30
A6: 11 | B6: 中药房 | C6: 在职 | D6: 1621 | E6: 叶云珍 | F6: 女 | G6: =VLOOKUP(E6,[1]Sheet1!$F:$L,7,0) -> 1971-09 | H6: 正式干部 | I6: 主管中药师 | J6: 2006-05-28 | K6: 2010-12-14 | L6: 中级 | M6: 药师 | O6: 2027年3月退休 | P6: =VLOOKUP(D6,[2]人员信息!$B$1:$D$65536,3,FALSE) -> 2026-09-30
A7: 12 | B7: 儿科（含新生儿科） | C7: 在职 | D7: 0880 | E7: 钟永红 | F7: 男 | G7: =VLOOKUP(E7,[1]Sheet1!$F:$L,7,0) -> 1966-09 | H7: 正式干部 | I7: 主治医师 | J7: 2001-11-01 | K7: 2004-05-01 | L7: 中级 | M7: 医师 | O7: 2027年3月退休 | P7: =VLOOKUP(D7,[2]人员信息!$B$1:$D$65536,3,FALSE) -> 2026-09-30
A8: 15 | B8: 导医组 | C8: 在职 | D8: 1657 | E8: 余少景 | F8: 女 | G8: =VLOOKUP(E8,[1]Sheet1!$F:$L,7,0) -> 1971-10 | H8: 正式干部 | I8: 护师 | J8: 2000-12-01 | K8: 2000-12-01 | L8: 初级 | M8: 护理 | O8: 2027年4月退休 | P8: =VLOOKUP(D8,[2]人员信息!$B$1:$D$65536,3,FALSE) -> 2026-10-31
A9: 17 | B9: 消毒供应中心 | C9: 在职 | D9: 2104 | E9: 郭镜洪 | F9: 男 | G9: =VLOOKUP(E9,[1]Sheet1!$F:$L,7,0) -> 1966-10-20 | H9: 转制工 | I9: 中级工 | J9: 1997-12-01 | K9: 1997-12-01 | M9: 工勤 | O9: 2027年4月退休 | P9: =VLOOKUP(D9,[2]人员信息!$B$1:$D$65536,3,FALSE) -> 2026-10-31
A10: 2 | B10: 内镜诊疗中心 | C10: 在职 | D10: 1810 | E10: 陈玉花 | F10: 女 | G10: 1971-06 | H10: 正式干部 | I10: 主管护师 | J10: 2010-05-30 | K10: 2012-09-24 | L10: 中级 | M10: 护理 | N10: =VLOOKUP(E10,[1]Sheet1!$F:$S,14,0) | O10: 2026年11月退休 | P10: =VLOOKUP(D10,[2]人员信息!$B$1:$D$65536,3,FALSE) -> 2026-11-30
A11: 19 | B11: 内科五病区 | C11: 在职 | D11: 1444 | E11: 刘丽华 | F11: 女 | G11: =VLOOKUP(E11,[1]Sheet1!$F:$L,7,0) -> 1971-11 | H11: 正式干部 | I11: 主管护师 | J11: 2014-05-25 | K11: 2020-06-30 | L11: 中级 | M11: 护理 | O11: 2027年5月退休 | P11: =VLOOKUP(D11,[2]人员信息!$B$1:$D$65536,3,FALSE) -> 2026-11-30
A12: 20 | B12: 烧伤整形二病区 | C12: 在职 | D12: 1481 | E12: 冯燕媚 | F12: 女 | G12: =VLOOKUP(E12,[1]Sheet1!$F:$L,7,0) -> 1971-11 | H12: 正式干部 | I12: 护师 | J12: 1998-12-01 | K12: 1998-12-01 | L12: 初级 | M12: 护理 | O12: 2027年5月退休 | P12: =VLOOKUP(D12,[2]人员信息!$B$1:$D$65536,3,FALSE) -> 2026-11-30
A13: 21 | B13: 消化内科（含内镜诊疗中心） | C13: 在职 | D13: 1424 | E13: 黎铭恩 | F13: 男 | G13: =VLOOKUP(E13,[1]Sheet1!$F:$L,7,0) -> 1966-11 | H13: 正式干部 | I13: 副主任医师 | J13: 2011-11-01 | K13: 2012-09-03 | L13: 副高 | M13: 医师 | O13: 2027年5月退休 | P13: =VLOOKUP(D13,[2]人员信息!$B$1:$D$65536,3,FALSE) -> 2026-11-30
A14: 5 | B14: 麻醉手术科 | C14: 在职 | D14: 0160 | E14: 何淑英 | F14: 女 | G14: 1966-07 | H14: 正式干部 | I14: 副主任医师 | J14: 2011-11-01 | K14: 2012-09-03 | L14: 副高 | M14: 医师 | N14: =VLOOKUP(E14,[1]Sheet1!$F:$S,14,0) | O14: 2026年12月退休 | P14: =VLOOKUP(D14,[2]人员信息!$B$1:$D$65536,3,FALSE) -> 2026-12-31
A15: 6 | B15: 消毒供应中心 | C15: 劳务派遣 | D15: L502 | E15: 邓夏娥 | F15: 女 | G15: 1976-04-09 | H15: 临工 | M15: 工勤 | N15: =VLOOKUP(E15,[1]Sheet1!$F:$S,14,0) | O15: 2026年12月退休 | Q15: =VLOOKUP(D15,[2]人员信息!$B$1:$D$65536,3,FALSE)
A16: 13 | B16: 办公室劳务派遣 | C16: 劳务派遣 | D16: L489 | E16: 区润银 | F16: 女 | G16: 1976-06-19 | H16: 临工 | M16: 工勤 | O16: 2027年3月退休 | P16: =VLOOKUP(D16,[2]人员信息!$B$1:$D$65536,3,FALSE)
A17: 14 | B17: 中心大药房 | C17: 劳务派遣 | D17: L570 | E17: 张连芬 | F17: 女 | G17: 1976-06-10 | H17: 临工 | M17: 工勤 | O17: 2027年3月退休 | P17: =VLOOKUP(D17,[2]人员信息!$B$1:$D$65536,3,FALSE)
A18: 16 | B18: 呼吸内科（含肺功能室） | C18: 在职 | D18: 1547 | E18: 汪得喜 | F18: 男 | G18: =VLOOKUP(E18,[1]Sheet1!$F:$L,7,0) -> 1966-10 | H18: 正式干部 | I18: 主任医师 | J18: 2006-11-01 | K18: 2007-04-01 | L18: 正高 | M18: 医师 | N18: 内科主任；呼吸内科主任 | O18: 2027年4月退休 | P18: =VLOOKUP(D18,[2]人员信息!$B$1:$D$65536,3,FALSE)
A19: 22 | B19: 血液内科 | C19: 在职 | D19: 2745 | E19: 李庆山 | F19: 男 | G19: =VLOOKUP(E19,[1]Sheet1!$F:$L,7,0) -> 1966-11 | H19: 正式干部 | I19: 主任医师 | J19: 2008-11-01 | K19: 2020-10-19 | L19: 正高 | M19: 医师 | N19: 血液内科主任 | O19: 2027年5月退休 | P19: =VLOOKUP(D19,[2]人员信息!$B$1:$D$65536,3,FALSE)
A20: 23 | B20: 口腔科 | C20: 在职 | D20: 1767 | E20: 詹春华 | F20: 女 | G20: =VLOOKUP(E20,[1]Sheet1!$F:$L,7,0) -> 1971-11 | H20: 正式干部 | I20: 副主任医师 | J20: 2009-11-01 | K20: 2011-01-20 | L20: 副高 | M20: 医师 | O20: 2027年5月退休 | P20: =VLOOKUP(D20,[2]人员信息!$B$1:$D$65536,3,FALSE)
A21: 24 | B21: 教学科办公室 | C21: 在职 | D21: 0915 | E21: 牛丽敏 | F21: 女 | G21: =VLOOKUP(E21,[1]Sheet1!$F:$L,7,0) -> 1971-12 | H21: 正式干部 | I21: 主管护师 | J21: 2007-06-01 | K21: 2010-12-14 | L21: 中级 | M21: 管理 | O21: 2027年6月退休 | P21: =VLOOKUP(D21,[2]人员信息!$B$1:$D$65536,3,FALSE)
A22: 25 | B22: 眼科 | C22: 在职 | D22: 1762 | E22: 卢毓敏 | F22: 女 | G22: =VLOOKUP(E22,[1]Sheet1!$F:$L,7,0) -> 1972-01 | H22: 正式干部 | I22: 副主任医师 | J22: 2016-11-01 | K22: 2018-12-31 | L22: 副高 | M22: 医师 | O22: 2027年8月退休 | P22: =VLOOKUP(D22,[2]人员信息!$B$1:$D$65536,3,FALSE)
A23: 26 | B23: 体检中心 | C23: 在职 | D23: 1830 | E23: 彭亮 | F23: 女 | G23: =VLOOKUP(E23,[1]Sheet1!$F:$L,7,0) -> 1972-01 | H23: 正式干部 | I23: 副主任医师 | J23: 2013-11-01 | K23: 2014-06-30 | L23: 副高 | M23: 医师 | O23: 2027年8月退休 | P23: =VLOOKUP(D23,[2]人员信息!$B$1:$D$65536,3,FALSE)
A24: 27 | B24: 手术室劳务派遣 | C24: 劳务派遣 | D24: L504 | E24: 黎家海 | F24: 男 | G24: =VLOOKUP(E24,[1]Sheet1!$F:$L,7,0) -> 1967-01-07 | H24: 临工 | M24: 工勤 | O24: 2027年8月退休 | P24: =VLOOKUP(D24,[2]人员信息!$B$1:$D$65536,3,FALSE)
A25: 28 | B25: 外科三病区 | C25: 在职 | D25: 1602 | E25: 江佩玲 | F25: 女 | G25: =VLOOKUP(E25,[1]Sheet1!$F:$L,7,0) -> 1972-02 | H25: 正式干部 | I25: 主管护师 | J25: 2014-05-25 | K25: 2018-06-30 | L25: 中级 | M25: 护理 | O25: 2027年9月退休 | P25: =VLOOKUP(D25,[2]人员信息!$B$1:$D$65536,3,FALSE)
A26: 29 | B26: 肝胆胰甲状腺病区 | C26: 在职 | D26: 2506 | E26: 王百林 | F26: 男 | G26: =VLOOKUP(E26,[1]Sheet1!$F:$L,7,0) -> 1967-02 | H26: 正式干部 | I26: 主任医师 | J26: 2012-12-01 | K26: 2015-06-30 | L26: 正高 | M26: 医师 | N26: 普外科主任兼肝胆胰甲状腺病区主任 | O26: 2027年9月退休 | P26: =VLOOKUP(D26,[2]人员信息!$B$1:$D$65536,3,FALSE)
A27: 30 | B27: 手术室 | C27: 在职 | D27: 1456 | E27: 王文芳 | F27: 女 | G27: =VLOOKUP(E27,[1]Sheet1!$F:$L,7,0) -> 1972-03 | H27: 正式干部 | I27: 主管护师 | J27: 2009-05-17 | K27: 2010-12-14 | L27: 中级 | M27: 护理 | O27: 2027年10月退休 | P27: =VLOOKUP(D27,[2]人员信息!$B$1:$D$65536,3,FALSE)
A28: 31 | B28: 口腔科门诊 | C28: 在职 | D28: 1470 | E28: 周小彤 | F28: 女 | G28: =VLOOKUP(E28,[1]Sheet1!$F:$L,7,0) -> 1972-03 | H28: 正式干部 | I28: 主管护师 | J28: 2011-05-29 | K28: 2019-06-30 | L28: 中级 | M28: 护理 | O28: 2027年10月退休 | P28: =VLOOKUP(D28,[2]人员信息!$B$1:$D$65536,3,FALSE)
A29: 32 | B29: 烧伤整形一病区 | C29: 在职 | D29: 1514 | E29: 赵淑婷 | F29: 女 | G29: =VLOOKUP(E29,[1]Sheet1!$F:$L,7,0) -> 1972-03 | H29: 正式干部 | I29: 副主任护师 | J29: 2013-11-01 | K29: 2015-12-22 | L29: 副高 | M29: 护理 | O29: 2027年10月退休 | P29: =VLOOKUP(D29,[2]人员信息!$B$1:$D$65536,3,FALSE)
A30: 33 | B30: 住院药房 | C30: 在职 | D30: 1521 | E30: 邓素媚 | F30: 女 | G30: =VLOOKUP(E30,[1]Sheet1!$F:$L,7,0) -> 1972-03 | H30: 正式干部 | I30: 药师 | J30: 1998-12-01 | K30: 1998-12-01 | L30: 初级 | M30: 药师 | O30: 2027年10月退休 | P30: =VLOOKUP(D30,[2]人员信息!$B$1:$D$65536,3,FALSE)
A31: 34 | B31: 手术室 | C31: 在职 | D31: 1537 | E31: 胡素芬 | F31: 女 | G31: =VLOOKUP(E31,[1]Sheet1!$F:$L,7,0) -> 1972-03 | H31: 正式干部 | I31: 副主任护师 | J31: 2017-12-01 | K31: 2018-12-31 | L31: 副高 | M31: 护理 | O31: 2027年10月退休 | P31: =VLOOKUP(D31,[2]人员信息!$B$1:$D$65536,3,FALSE)
A32: 35 | B32: 消毒供应中心 | C32: 在职 | D32: 1603 | E32: 周四群 | F32: 女 | G32: =VLOOKUP(E32,[1]Sheet1!$F:$L,7,0) -> 1972-03 | H32: 正式干部 | I32: 护师 | J32: 2001-11-01 | K32: 2004-05-01 | L32: 初级 | M32: 护理 | O32: 2027年10月退休 | P32: =VLOOKUP(D32,[2]人员信息!$B$1:$D$65536,3,FALSE)
A33: 36 | B33: 感染性疾病科护理区 | C33: 在职 | D33: 1574 | E33: 谭肖银 | F33: 女 | G33: =VLOOKUP(E33,[1]Sheet1!$F:$L,7,0) -> 1972-04 | H33: 正式干部 | I33: 主管护师 | J33: 2012-05-27 | K33: 2013-06-30 | L33: 中级 | M33: 护理 | O33: 2027年11月退休 | P33: =VLOOKUP(D33,[2]人员信息!$B$1:$D$65536,3,FALSE)
A34: 37 | B34: 麻醉手术科 | C34: 在职 | D34: 1746 | E34: 张艳 | F34: 女 | G34: =VLOOKUP(E34,[1]Sheet1!$F:$L,7,0) -> 1971-12 | H34: 正式干部 | I34: 副主任医师 | J34: 2008-11-01 | K34: 2009-09-14 | L34: 副高 | M34: 医师 | O34: 2027年11月退休 | P34: =VLOOKUP(D34,[2]人员信息!$B$1:$D$65536,3,FALSE)
A35: 38 | B35: 心脏/血管外科 | C35: 在职 | D35: 1419 | E35: 吴伟东 | F35: 男 | G35: =VLOOKUP(E35,[1]Sheet1!$F:$L,7,0) -> 1967-04 | H35: 正式干部 | I35: 副主任医师 | J35: 2003-12-01 | K35: 2004-09-01 | L35: 副高 | M35: 医师 | O35: 2027年11月退休 | P35: =VLOOKUP(D35,[2]人员信息!$B$1:$D$65536,3,FALSE)
A36: 39 | B36: 急诊科 | C36: 在职 | D36: 1436 | E36: 郑学东 | F36: 男 | G36: =VLOOKUP(E36,[1]Sheet1!$F:$L,7,0) -> 1967-04 | H36: 正式干部 | I36: 主治医师 | J36: 1997-10-01 | K36: 1997-12-01 | L36: 中级 | M36: 医师 | O36: 2027年11月退休 | P36: =VLOOKUP(D36,[2]人员信息!$B$1:$D$65536,3,FALSE)
A37: 40 | B37: 心血管内科劳务派遣 | C37: 劳务派遣 | D37: L480 | E37: 晏丽英 | F37: 女 | G37: 1976-11-07 | H37: 临工 | M37: 工勤 | O37: 2027年11月退休 | P37: =VLOOKUP(D37,[2]人员信息!$B$1:$D$65536,3,FALSE)
A38: 41 | B38: 内镜诊疗中心 | C38: 在职 | D38: 1455 | E38: 陈楚端 | F38: 女 | G38: 1972-05 | H38: 正式干部 | I38: 主管护师 | J38: 2006-05-01 | K38: 2008-07-01 | L38: 中级 | M38: 护理 | O38: 2028年1月退休
A39: 42 | B39: 烧伤与创面修复中心 | C39: 在职 | D39: 1512 | E39: 杨倩君 | F39: 女 | G39: 1972-05 | H39: 正式干部 | I39: 护师 | J39: 2001-11-01 | K39: 2004-05-01 | L39: 初级 | M39: 护理 | O39: 2028年1月退休
A40: 43 | B40: 内科九病区 | C40: 在职 | D40: 1583 | E40: 王宇晖 | F40: 女 | G40: 1972-05 | H40: 正式干部 | I40: 主管护师 | J40: 2004-06-01 | K40: 2008-07-01 | L40: 中级 | M40: 护理 | O40: 2028年1月退休
A41: 44 | B41: 感染性疾病科 | C41: 在职 | D41: 1428 | E41: 伍福全 | F41: 男 | G41: 1967-05 | H41: 正式干部 | I41: 医师 | J41: 1991-07-01 | K41: 1991-07-01 | L41: 初级 | M41: 医师 | O41: 2028年1月退休
A42: 45 | B42: 药库 | C42: 在职 | D42: 1374 | E42: 吴爱明 | F42: 女 | G42: 1972-06 | H42: 正式干部 | I42: 主管药师 | J42: 2001-11-01 | K42: 2004-05-01 | L42: 中级 | M42: 药师 | O42: 2028年2月退休
A43: 46 | B43: 输血科 | C43: 在职 | D43: 1518 | E43: 梁群 | F43: 女 | G43: 1972-06 | H43: 正式干部 | I43: 主管技师 | J43: 2003-11-01 | K43: 2008-07-01 | L43: 中级 | M43: 技师 | O43: 2028年2月退休
A44: 47 | B44: 眼科 | C44: 在职 | D44: 1689 | E44: 郑东健 | F44: 女 | G44: 1972-06 | H44: 正式干部 | I44: 副主任医师 | J44: 2013-11-01 | K44: 2014-06-30 | L44: 副高 | M44: 医师 | O44: 2028年2月退休
A45: 48 | B45: 静脉用药调配中心（PIVA） | C45: 在职 | D45: 1707 | E45: 叶红菊 | F45: 女 | G45: 1972-05 | H45: 正式干部 | I45: 主管中药师 | J45: 2000-10-01 | K45: 2000-12-01 | L45: 中级 | M45: 药师 | O45: 2028年2月退休
A46: 49 | B46: 消化内科（含内镜诊疗中心） | C46: 在职 | D46: 1834 | E46: 张晓燕 | F46: 女 | G46: 1972-06 | H46: 正式干部 | I46: 副主任医师 | J46: 2009-11-01 | K46: 2011-01-20 | L46: 副高 | M46: 医师 | O46: 2028年2月退休
A47: 50 | B47: 急诊科 | C47: 在职 | D47: 1420 | E47: 金泓 | F47: 男 | G47: 1967-06 | H47: 正式干部 | I47: 副主任医师 | J47: 2013-11-01 | K47: 2014-06-30 | L47: 副高 | M47: 医师 | O47: 2028年2月退休
A48: 51 | B48: 外科三病区 | C48: 在职 | D48: 1070 | E48: 谭艳艳 | F48: 女 | G48: 1972-07 | H48: 正式干部 | I48: 副主任护师 | J48: 2013-11-01 | K48: 2014-06-30 | L48: 副高 | M48: 护理 | N48: 外科三病区护士长 | O48: 2028年3月退休
A49: 52 | B49: 耳鼻咽喉头颈外科病区 | C49: 在职 | D49: 1524 | E49: 许春静 | F49: 女 | G49: 1972-07 | H49: 正式干部 | I49: 护师 | J49: 2001-11-01 | K49: 2004-05-01 | L49: 初级 | M49: 护理 | O49: 2028年3月退休
A50: 53 | B50: 骨科二病区 | C50: 在职 | D50: 1525 | E50: 刘银肖 | F50: 女 | G50: 1972-07 | H50: 正式干部 | I50: 副主任护师 | J50: 2019-12-15 | K50: 2020-06-30 | L50: 副高 | M50: 护理 | O50: 2028年3月退休
A51: 54 | B51: 心血管内二病区 | C51: 在职 | D51: 1259 | E51: 崔进 | F51: 男 | G51: 1967-07 | H51: 正式干部 | I51: 主任医师 | J51: 2012-11-01 | K51: 2013-06-30 | L51: 正高 | M51: 医师 | O51: 2028年3月退休
A52: 55 | B52: 泌尿外科 | C52: 在职 | D52: 1500 | E52: 李刚 | F52: 男 | G52: 1967-07 | H52: 正式干部 | I52: 主任医师 | J52: 2016-11-01 | K52: 2017-06-30 | L52: 正高 | M52: 医师 | O52: 2028年3月退休
A53: 56 | B53: 心血管内二病区 | C53: 在职 | D53: 2641 | E53: 张少衡 | F53: 男 | G53: 1967-07 | H53: 正式干部 | I53: 主任医师 | J53: 2015-11-19 | K53: 2017-12-25 | L53: 正高 | M53: 医师 | N53: 心血管医学部副主任；心血管内二科主任 | O53: 2028年3月退休
A54: 57 | B54: 产科病区 | C54: 在职 | D54: 1513 | E54: 钟曼妮 | F54: 女 | G54: 1972-08 | H54: 正式干部 | I54: 护师 | J54: 2000-12-01 | K54: 2000-12-01 | L54: 初级 | M54: 护理 | O54: 2028年4月退休
A55: 58 | B55: 感染管理科（预防保健科合署） | C55: 在职 | D55: 1519 | E55: 沈仲华 | F55: 女 | G55: 1972-08 | H55: 正式干部 | I55: 副主任技师 | J55: 2010-12-01 | K55: 2012-09-03 | L55: 副高 | M55: 技师 | O55: 2028年4月退休
A56: 59 | B56: 内科七病区 | C56: 在职 | D56: 1573 | E56: 曾丽群 | F56: 女 | G56: 1972-07 | H56: 正式干部 | I56: 主管护师 | J56: 2018-06-03 | L56: 中级 | M56: 护理 | O56: 2028年4月退休
A57: 60 | B57: 内科四病区 | C57: 在职 | D57: 1577 | E57: 郭穗苹 | F57: 女 | G57: 1972-08 | H57: 正式干部 | I57: 主管护师 | J57: 2010-05-30 | K57: 2011-09-26 | L57: 中级 | M57: 护理 | O57: 2028年4月退休
A58: 61 | B58: 新生儿科护理 | C58: 在职 | D58: 1598 | E58: 胡永娟 | F58: 女 | G58: 1972-08 | H58: 正式干部 | I58: 主管护师 | J58: 2012-05-27 | K58: 2013-06-30 | L58: 中级 | M58: 护理 | O58: 2028年4月退休
A59: 62 | B59: 烧伤整形一病区 | C59: 在职 | D59: 1614 | E59: 谭未燕 | F59: 女 | G59: 1972-08 | H59: 正式干部 | I59: 主管护师 | J59: 2013-05-26 | K59: 2019-06-30 | L59: 中级 | M59: 护理 | O59: 2028年4月退休
A60: 63 | B60: 耳鼻咽喉头颈外科病区 | C60: 在职 | D60: 1511 | E60: 辛蓉 | F60: 女 | G60: 1972-09 | H60: 正式干部 | I60: 护师 | J60: 2002-10-01 | K60: 2004-05-01 | L60: 初级 | M60: 护理 | O60: 2028年6月退休
A61: 64 | B61: 眼科、口腔科病区 | C61: 在职 | D61: 1516 | E61: 杨艳华 | F61: 女 | G61: 1972-09 | H61: 正式干部 | I61: 主管护师 | J61: 2010-05-30 | K61: 2018-12-31 | L61: 中级 | M61: 护理 | O61: 2028年6月退休
A62: 65 | B62: 消毒供应中心 | C62: 在职 | D62: 1579 | E62: 张志贞 | F62: 女 | G62: 1972-09 | H62: 正式干部 | I62: 护士 | L62: 初级 | M62: 护理 | O62: 2028年6月退休
A63: 66 | B63: 呼吸内科（含肺功能室） | C63: 在职 | D63: 1826 | E63: 曾瑜 | F63: 女 | G63: 1972-09 | H63: 正式干部 | I63: 主任医师 | J63: 2020-12-31 | L63: 正高 | M63: 医师 | O63: 2028年6月退休
A64: 67 | B64: 消化内科（含内镜诊疗中心） | C64: 在职 | D64: 1931 | E64: 庞春梅 | F64: 女 | G64: 1972-11 | H64: 正式干部 | I64: 副主任医师 | J64: 2007-11-01 | K64: 2009-09-14 | L64: 副高 | M64: 医师 | O64: 2028年6月退休
A65: 68 | B65: 消毒供应中心 | C65: 在职 | D65: 1517 | E65: 林晓虹 | F65: 女 | G65: 1972-10 | H65: 正式干部 | I65: 护师 | J65: 2004-06-01 | K65: 2005-10-01 | L65: 初级 | M65: 护理 | O65: 2028年7月退休
A66: 69 | B66: 静脉用药调配中心（PIVA） | C66: 在职 | D66: 1522 | E66: 许海珍 | F66: 女 | G66: 1972-10 | H66: 正式干部 | I66: 药师 | J66: 1996-12-01 | K66: 1997-01-01 | L66: 初级 | M66: 药师 | O66: 2028年7月退休
A67: 70 | B67: 内科四病区 | C67: 在职 | D67: 1534 | E67: 江淑颜 | F67: 女 | G67: 1972-10 | H67: 正式干部 | I67: 护师 | J67: 1998-12-01 | K67: 1998-12-01 | L67: 初级 | M67: 护理 | O67: 2028年7月退休
A68: 71 | B68: 中医科（皮肤科）病区 | C68: 在职 | D68: 1604 | E68: 江丽玲 | F68: 女 | G68: 1972-12 | H68: 正式干部 | I68: 主管护师 | J68: 2021-04-18 | L68: 中级 | M68: 护理 | O68: 2028年7月退休
A69: 72 | B69: 中药房 | C69: 在职 | D69: 1828 | E69: 叶凤英 | F69: 女 | G69: 1972-10 | H69: 正式干部 | I69: 副主任中药师 | J69: 2011-11-01 | K69: 2012-09-03 | L69: 副高 | M69: 药师 | O69: 2028年7月退休
A70: 73 | B70: 产科 | C70: 在职 | D70: 1833 | E70: 赖晓岚 | F70: 女 | G70: 1972-10 | H70: 正式干部 | I70: 主任医师 | J70: 2014-11-01 | K70: 2015-12-22 | L70: 正高 | M70: 医师 | N70: 妇产科门诊负责人 | O70: 2028年7月退休
A71: 74 | B71: 锅炉房 | C71: 在职 | D71: 1283 | E71: 丘敏 | F71: 男 | G71: 1967-10-26 | H71: 合同工 | I71: 中级工 | J71: 2008-05-18 | K71: 2015-06-30 | M71: 工勤 | O71: 2028年7月退休
A72: 75 | B72: 检验科 | C72: 在职 | D72: 1440 | E72: 彭湘明 | F72: 男 | G72: 1967-10 | H72: 正式干部 | I72: 主任技师 | J72: 2009-11-01 | K72: 2010-10-11 | L72: 正高 | M72: 技师 | N72: 医学实验中心主任；检验科主任 | O72: 2028年7月退休
A73: 76 | B73: 住院药房 | C73: 在职 | D73: 1485 | E73: 伍慧敏 | F73: 女 | G73: 1972-11 | H73: 正式干部 | I73: 药师 | J73: 1995-12-01 | K73: 1996-01-01 | L73: 初级 | M73: 药师 | O73: 2028年8月退休
A74: 77 | B74: 内科六病区 | C74: 在职 | D74: 1527 | E74: 李迎春 | F74: 女 | G74: 1972-11 | H74: 正式干部 | I74: 主管护师 | J74: 2015-05-24 | L74: 中级 | M74: 护理 | O74: 2028年8月退休
A75: 78 | B75: 外科三病区 | C75: 在职 | D75: 1585 | E75: 萧丽燕 | F75: 女 | G75: 1972-10 | H75: 正式干部 | I75: 主管护师 | J75: 2007-05-27 | L75: 中级 | M75: 护理 | O75: 2028年8月退休
A76: 79 | B76: 外科三病区 | C76: 在职 | D76: 1587 | E76: 邓雪珍 | F76: 女 | G76: 1972-11 | H76: 正式干部 | I76: 主管护师 | J76: 2005-06-19 | K76: 2010-12-14 | L76: 中级 | M76: 护理 | O76: 2028年8月退休
A77: 80 | B77: 肝胆胰甲状腺病区 | C77: 在职 | D77: 1418 | E77: 雷朝晖 | F77: 男 | G77: 1967-11 | H77: 正式干部 | I77: 副主任医师 | J77: 2013-11-01 | K77: 2015-12-22 | L77: 副高 | M77: 医师 | O77: 2028年8月退休
A78: 81 | B78: 急诊科 | C78: 在职 | D78: 1558 | E78: 梁志明 | F78: 男 | G78: 1967-11 | H78: 正式干部 | I78: 主治医师 | J78: 1998-10-01 | K78: 1998-12-01 | L78: 中级 | M78: 医师 | O78: 2028年8月退休
A79: 82 | B79: 检验科 | C79: 在职 | D79: 1623 | E79: 赖艳榕 | F79: 女 | G79: 1972-11 | H79: 正式干部 | I79: 副主任技师 | J79: 2011-11-01 | K79: 2012-09-03 | L79: 副高 | M79: 技师 | O79: 2028年8月退休
A80: 83 | B80: 骨科二病区 | C80: 在职 | D80: 1613 | E80: 刘淑英 | F80: 女 | G80: 1972-12 | H80: 正式干部 | I80: 主管护师 | J80: 2013-05-26 | L80: 中级 | M80: 护理 | O80: 2028年9月退休
A81: 84 | B81: 儿科（含新生儿科） | C81: 在职 | D81: 1760 | E81: 麦海珊 | F81: 女 | G81: 1972-12 | H81: 正式干部 | I81: 副主任医师 | J81: 2014-11-01 | K81: 2015-06-30 | L81: 副高 | M81: 医师 | O81: 2028年9月退休
A82: 85 | B82: 超声医学科 | C82: 在职 | D82: 1835 | E82: 黄政文 | F82: 女 | G82: 1972-12 | H82: 正式干部 | I82: 副主任医师 | J82: 2012-11-01 | K82: 2013-06-30 | L82: 副高 | M82: 医师 | O82: 2028年9月退休
A83: 86 | B83: 呼吸与危重症医学科 | C83: 在职 | D83: 2144 | E83: 张敏1 | F83: 女 | G83: 1972-12 | H83: 正式干部 | I83: 主任医师 | J83: 2012-11-01 | K83: 2016-12-31 | L83: 正高 | M83: 医师 | O83: 2028年9月退休
A84: 87 | B84: 眼科 | C84: 在职 | D84: 1883 | E84: 林翎 | F84: 女 | G84: 1972-12 | H84: 正式干部 | I84: 副主任医师 | J84: 2011-11-01 | K84: 2012-09-03 | L84: 副高 | M84: 医师 | O84: 2028年9月退休
A85: 88 | B85: 急诊医学科 | C85: 在职 | D85: 1492 | E85: 陈耀新 | F85: 男 | G85: 1968-01 | H85: 正式干部 | I85: 主治医师 | J85: 1998-10-01 | K85: 1998-12-01 | L85: 中级 | M85: 医师 | O85: 2028年11月退休
A86: 89 | B86: 科教科（科教信息科） | C86: 在职 | D86: 2573 | E86: 张福康 | F86: 男 | G86: 1968-01 | H86: 正式干部 | I86: 讲师 | J86: 1999-11-30 | L86: 中级 | M86: 管理 | N86: 科教科（科教信息科）科长 | O86: 2028年11月退休
A87: 90 | B87: 中医科 | C87: 在职 | D87: 1488 | E87: 温伟伦 | F87: 男 | G87: 1968-02 | H87: 正式干部 | I87: 主任中医师 | J87: 2019-12-15 | K87: 2020-06-30 | L87: 正高 | M87: 医师 | O87: 2028年12月退休
A88: 91 | B88: 儿科病区护理 | C88: 在职 | D88: 1596 | E88: 陈红玲 | F88: 女 | G88: 1973-01 | H88: 正式干部 | I88: 护士 | J88: 1993-07-01 | K88: 1993-07-01 | L88: 初级 | M88: 护理 | O88: 2028年11月退休
A89: 92 | B89: 骨科门诊护理 | C89: 在职 | D89: 1612 | E89: 苏捷佑 | F89: 女 | G89: 1973-01 | H89: 正式干部 | I89: 主管护师 | J89: 2010-05-30 | K89: 2012-09-24 | L89: 中级 | M89: 护理 | O89: 2028年11月退休
A90: 93 | B90: 中心注射室 | C90: 在职 | D90: 1608 | E90: 刘红莲 | F90: 女 | G90: 1973-02 | H90: 正式干部 | I90: 主管护师 | J90: 2011-05-29 | K90: 2018-06-30 | L90: 中级 | M90: 护理 | O90: 2028年12月退休
A91: 94 | B91: 重症医学科（ICU） | C91: 在职 | D91: 1829 | E91: 叶小玲 | F91: 女 | G91: 1973-02 | H91: 正式干部 | I91: 主任医师 | J91: 2017-12-01 | K91: 2018-12-31 | L91: 正高 | M91: 医师 | O91: 2028年12月退休

Sheet 转编申请
A2: 8 | B2: 放疗科 | D2: 医师 | E2: 专业技术岗位 | F2: 1 | G2: 1 | J2: 非2027年毕业的往届生 | K2: 肿瘤学 | N2: 硕士研究生及以上 | O2: 硕士及以上 | P2: 35周岁及以下 | Q2: 医师 | R2: 是 | S2: 规培方向：放射肿瘤科 | T2: 科室2025年9月入职编外员工，申请转编内编制。该员工除临床业务能力扎实外，还具备一定科研能力，已发表SCI及中文核心期刊数篇，掌握且熟练进行实验设计、各种基础实验研究的实施，可独立完成并具备撰写基金、标书，及申请课题的能力。2025.09至今工作期间完成申请市级课题一般引导项目，已过院内评审，一篇中文核心期刊已修回，两篇SCI共同第一作者在投，综合能力较强。 | U2: 王鸽转编 | V2: 11 | W2: 5 | X2: 35岁以下：4 36-45岁：1 46-55岁：0 56岁以上：0 | Y2: 博士：2 硕士：3 本科：0 | Z2: 正高：0 副高：1 中级：3 初级：1 | AA2: 编内：4 编外：1 | AC2: / | AI2: / | AJ2: /
A3: 16 | B3: 神经内科 | D3: 医师3 | E3: 专业技术岗位 | F3: 1 | G3: 1 | J3: 不限 | K3: 神经病学 | N3: 硕士研究生及以上 | O3: 硕士及以上 | P3: 无 | Q3: 医师 | R3: 是 | T3: 2026年招收编外人员一名，根据工作表现，拟转编内。 | U3: 郭艺凤转编
A4: 25 | B4: 乳腺科 | D4: 医师1 | E4: 专业技术岗位 | F4: 1 | G4: 1 | J4: 不限 | K4: 外科学 | N4: 博士研究生 | O4: 博士 | P4: 无 | Q4: 医师 | R4: 否 | T4: 2026年入职伍禧雯博士入编 | U4: 伍禧雯转编
A5: 27 | B5: 心胸与血管外科 | D5: 医师1 | E5: 专业技术岗位 | F5: 1 | G5: 1 | J5: 非2027年毕业的往届生 | K5: 外科学 | N5: 硕士研究生及以上 | O5: 硕士及以上 | P5: 40周岁及以下 | Q5: 医师 | R5: 是 | T5: 转编内 | U5: 方明星转编
A6: 78 | B6: 超声科 | D6: 医师2 | E6: 专业技术岗位 | F6: 1 | G6: 1 | J6: 不限 | K6: 影像医学与核医学 | N6: 本科及以上 | O6: 硕士 | P6: 40周岁及以下 | Q6: 主治医师 | R6: 是 | S6: 具有三甲医院工作经历 | T6: 从科室业务发展及稳定医师团队等方面出发，建议将科内表现优秀的周汇恩主治医师（今年申报副主任医师、已取得硕士学位、主持卫健委课题一项，以第一作者发表2区SCI一篇）转为编内。 | U6: 周汇恩转编
A7: 79 | B7: 超声科 | D7: 医师3 | E7: 专业技术岗位 | F7: 1 | G7: 1 | H7: 1 | J7: 非2027年毕业的往届生 | K7: 影像医学与核医学 | N7: 硕士研究生及以上 | O7: 硕士及以上 | P7: 35周岁及以下 | Q7: 医师 | R7: 是 | S7: 具有三甲医院工作经历 | T7: 梅乐医师为2025年应届硕士研究生，毕业以编外形式留院，规培也于本院完成，中共党员，现为广州市创伤烧伤紧急医学救援队队员，工作踏实肯干、吃苦耐劳，科研水平良好，超声医学为紧缺专业，建议转为编内。 | U7: 梅乐转编
A8: 84 | B8: 后勤设备管理科 | C8: 总务办公室 | D8: 科员 | E8: 专业技术岗位 | F8: 1 | G8: 1 | J8: 非2027年毕业的往届生 | L8: 经济与贸易 | N8: 本科 | O8: 学士 | P8: 40周岁及以下 | Q8: 中级 | S8: 有三年以上三甲医院后勤工作经历，英语六级，中级经济师职称。 | T8: （转编）为了适应现代化医院后勤管理需要，提升部门综合运营与规范化管理水平，结合经济专业人才职能适配需求，现申请补充专业人员 | U8: 王健韵转编 | W8: 3 | X8: 35岁以下：1 36-45岁：1 46-55岁：1 56岁以上：0 | Y8: 博士：0 硕士：0 本科：3 | Z8: 正高：0 副高：0 中级：3 初级：0 | AA8: 编内：2 编外：1 | AC8: / | AI8: / | AJ8: /

Sheet Sheet1
D2: 离职、退休 | I2: 离职、退休
D3: 61人 | I3: 65人
B4: 2026.08 | E4: 2027.06 | G4: 2027.07 | J4: 2028.06 | L4: 2028.07 | P4: 2029.07
B5: 890人 | E5: 829人 | F5: 入职 | G5: 877人 | J5: 814人 | K5: 入职数
F6: 48人 | K6: 待定
B7: 1472床位，可配置920-930名护理 | I7: 1222床位，可配置800-820名护理 | N7: 1472床位？配置数？
B8: 2026年9月启动秋招，人员招聘计划48 | H8: 2027年秋招人员招聘计划：待定
