Workbook

Sheet 日照市公安局
A1: 日照市公安局2026年招录警务辅助人员 进入面试范围人员名单
A2: 序号 | B2: 姓名 | C2: 性别 | D2: 学历 | E2: 身份证号 | F2: 报考职位 | G2: 用人单位
A3: 1 | B3: 丁锐锋 | C3: 男 | D3: 本科 | E3: =VLOOKUP(B3,[1]日照市公安局!$B$3:$F$67,5,0) -> 371121********1911 | F3: 专项勤务A | G3: 日照市公安局
A4: 2 | B4: 王崇镇 | C4: 男 | D4: 本科 | E4: =VLOOKUP(B4,[1]日照市公安局!$B$3:$F$67,5,0) -> 371122********6330 | F4: 专项勤务A | G4: 日照市公安局
A5: 3 | B5: 王铭智 | C5: 男 | D5: 本科 | E5: =VLOOKUP(B5,[1]日照市公安局!$B$3:$F$67,5,0) -> 371122********8330 | F5: 专项勤务A | G5: 日照市公安局
A6: 4 | B6: 公瀚 | C6: 男 | D6: 本科 | E6: =VLOOKUP(B6,[1]日照市公安局!$B$3:$F$67,5,0) -> 371102********781X | F6: 专项勤务A | G6: 日照市公安局
A7: 5 | B7: 付思博 | C7: 男 | D7: 本科 | E7: =VLOOKUP(B7,[1]日照市公安局!$B$3:$F$67,5,0) -> 230805********1033 | F7: 专项勤务A | G7: 日照市公安局
A8: 6 | B8: 代润阁 | C8: 男 | D8: 本科 | E8: =VLOOKUP(B8,[1]日照市公安局!$B$3:$F$67,5,0) -> 371102********0351 | F8: 专项勤务A | G8: 日照市公安局
A9: 7 | B9: 刘洋 | C9: 男 | D9: 本科 | E9: =VLOOKUP(B9,[1]日照市公安局!$B$3:$F$67,5,0) -> 371102********0533 | F9: 专项勤务A | G9: 日照市公安局
A10: 8 | B10: 刘祥鹏 | C10: 男 | D10: 本科 | E10: =VLOOKUP(B10,[1]日照市公安局!$B$3:$F$67,5,0) -> 371102********7514 | F10: 专项勤务A | G10: 日照市公安局
A11: 9 | B11: 许浩然 | C11: 男 | D11: 本科 | E11: =VLOOKUP(B11,[1]日照市公安局!$B$3:$F$67,5,0) -> 371102********0036 | F11: 专项勤务A | G11: 日照市公安局
A12: 10 | B12: 孙逸飞 | C12: 男 | D12: 本科 | E12: =VLOOKUP(B12,[1]日照市公安局!$B$3:$F$67,5,0) -> 371102********0015 | F12: 专项勤务A | G12: 日照市公安局
A13: 11 | B13: 孙麟安 | C13: 男 | D13: 研究生 | E13: =VLOOKUP(B13,[1]日照市公安局!$B$3:$F$67,5,0) -> 371102********1910 | F13: 专项勤务A | G13: 日照市公安局
A14: 12 | B14: 李子睿 | C14: 男 | D14: 本科 | E14: =VLOOKUP(B14,[1]日照市公安局!$B$3:$F$67,5,0) -> 371102********8431 | F14: 专项勤务A | G14: 日照市公安局
... A40: 38 | B40: 滕昱君 | C40: 男 | D40: 大专 | E40: =VLOOKUP(B40,[1]日照市公安局!$B$3:$F$67,5,0) -> 371102********9035 | F40: 专项勤务B | G40: 日照市公安局

Sheet 交管支队
A1: 日照市公安局2026年招录警务辅助人员 进入面试范围人员名单
A2: 序号 | B2: 姓名 | C2: 性别 | D2: 学历 | E2: 身份证号 | F2: 报考职位 | G2: 用人单位
A3: 1 | B3: 丁子航 | C3: 男 | D3: 大专 | E3: 371102********4716 | F3: 交通管理A | G3: 日照市公安局交通管理支队
A4: 2 | B4: 于子博 | C4: 男 | D4: 大专 | E4: 370211********2134 | F4: 交通管理A | G4: 日照市公安局交通管理支队
A5: 3 | B5: 王一鸣 | C5: 男 | D5: 本科 | E5: 371102********0517 | F5: 交通管理A | G5: 日照市公安局交通管理支队
A6: 4 | B6: 王珑淏 | C6: 男 | D6: 大专 | E6: 371102********0314 | F6: 交通管理A | G6: 日照市公安局交通管理支队
A7: 5 | B7: 王政府 | C7: 男 | D7: 大专 | E7: 371122********3752 | F7: 交通管理A | G7: 日照市公安局交通管理支队
A8: 6 | B8: 王博 | C8: 男 | D8: 本科 | E8: 371102********4713 | F8: 交通管理A | G8: 日照市公安局交通管理支队
A9: 7 | B9: 尹新宇 | C9: 男 | D9: 大专 | E9: 371102********2218 | F9: 交通管理A | G9: 日照市公安局交通管理支队
A10: 8 | B10: 白世龙 | C10: 男 | D10: 大专 | E10: 371102********6013 | F10: 交通管理A | G10: 日照市公安局交通管理支队
A11: 9 | B11: 宁鹏程 | C11: 男 | D11: 大专 | E11: 371102********8357 | F11: 交通管理A | G11: 日照市公安局交通管理支队
A12: 10 | B12: 吕俊燃 | C12: 男 | D12: 本科 | E12: 371102********4411 | F12: 交通管理A | G12: 日照市公安局交通管理支队
A13: 11 | B13: 刘沥文 | C13: 男 | D13: 大专 | E13: 371102********7511 | F13: 交通管理A | G13: 日照市公安局交通管理支队
A14: 12 | B14: 刘泉君 | C14: 男 | D14: 大专 | E14: 371122********0955 | F14: 交通管理A | G14: 日照市公安局交通管理支队
... A69: 67 | B69: 崔凯 | C69: 男 | D69: 本科 | E69: 371102********7113 | F69: 交通管理D | G69: 日照市公安局交通管理支队

Sheet 东港分局
A1: 日照市公安局2026年招录警务辅助人员 进入面试范围人员名单
A2: 序号 | B2: 姓名 | C2: 性别 | D2: 学历 | E2: 身份证号 | F2: 报考职位 | G2: 用人单位
A3: 1 | B3: 马皓禹 | C3: 男 | D3: 大专 | E3: 371102********5031 | F3: =VLOOKUP(B3,[1]东港分局!$B$3:$G$178,6,0) -> 警情和案件处置A | G3: 日照市公安局东港分局
A4: 2 | B4: 王洋 | C4: 男 | D4: 大专 | E4: 371102********4715 | F4: =VLOOKUP(B4,[1]东港分局!$B$3:$G$178,6,0) -> 警情和案件处置A | G4: 日照市公安局东港分局
A5: 3 | B5: 司西晖 | C5: 男 | D5: 大专 | E5: 371102********6037 | F5: =VLOOKUP(B5,[1]东港分局!$B$3:$G$178,6,0) -> 警情和案件处置A | G5: 日照市公安局东港分局
A6: 4 | B6: 吕涛 | C6: 男 | D6: 本科 | E6: 371102********5035 | F6: =VLOOKUP(B6,[1]东港分局!$B$3:$G$178,6,0) -> 警情和案件处置A | G6: 日照市公安局东港分局
A7: 5 | B7: 刘杰 | C7: 男 | D7: 大专 | E7: 371102********6812 | F7: =VLOOKUP(B7,[1]东港分局!$B$3:$G$178,6,0) -> 警情和案件处置A | G7: 日照市公安局东港分局
A8: 6 | B8: 许杰 | C8: 男 | D8: 本科 | E8: 371102********5711 | F8: =VLOOKUP(B8,[1]东港分局!$B$3:$G$178,6,0) -> 警情和案件处置A | G8: 日照市公安局东港分局
A9: 7 | B9: 李伟 | C9: 男 | D9: 大专 | E9: 230231********3115 | F9: =VLOOKUP(B9,[1]东港分局!$B$3:$G$178,6,0) -> 警情和案件处置A | G9: 日照市公安局东港分局
A10: 8 | B10: 李泳宏 | C10: 男 | D10: 大专 | E10: 371102********0517 | F10: =VLOOKUP(B10,[1]东港分局!$B$3:$G$178,6,0) -> 警情和案件处置A | G10: 日照市公安局东港分局
A11: 9 | B11: 吴耀辉 | C11: 男 | D11: 大专 | E11: 130102********2117 | F11: =VLOOKUP(B11,[1]东港分局!$B$3:$G$178,6,0) -> 警情和案件处置A | G11: 日照市公安局东港分局
A12: 10 | B12: 宋金国 | C12: 男 | D12: 大专 | E12: 371102********4718 | F12: =VLOOKUP(B12,[1]东港分局!$B$3:$G$178,6,0) -> 警情和案件处置A | G12: 日照市公安局东港分局
A13: 11 | B13: 宋宜恒 | C13: 男 | D13: 大专 | E13: 371102********0595 | F13: =VLOOKUP(B13,[1]东港分局!$B$3:$G$178,6,0) -> 警情和案件处置A | G13: 日照市公安局东港分局
A14: 12 | B14: 张开禹 | C14: 男 | D14: 大专 | E14: 371122********1214 | F14: =VLOOKUP(B14,[1]东港分局!$B$3:$G$178,6,0) -> 警情和案件处置A | G14: 日照市公安局东港分局
... A66: 64 | B66: 韩凯 | C66: 男 | D66: 大专 | E66: 371122********0050 | F66: =VLOOKUP(B66,[1]东港分局!$B$3:$G$178,6,0) -> 警情和案件处置C | G66: 日照市公安局东港分局

Sheet 岚山分局
A1: 日照市公安局2026年招录警务辅助人员 进入面试范围人员名单
A2: 序号 | B2: 姓名 | C2: 性别 | D2: 学历 | E2: 身份证号 | F2: 报考职位 | G2: 用人单位
A3: 1 | B3: 丁仕杰 | C3: 男 | D3: 大专 | E3: 371102********5411 | F3: =VLOOKUP(B3,[1]岚山分局!$B$3:$G$72,6,0) -> 应急处突A | G3: 日照市公安局岚山分局
A4: 2 | B4: 马雁鸣 | C4: 男 | D4: 大专 | E4: 371121********0258 | F4: =VLOOKUP(B4,[1]岚山分局!$B$3:$G$72,6,0) -> 应急处突A | G4: 日照市公安局岚山分局
A5: 3 | B5: 刘廷胜 | C5: 男 | D5: 大专 | E5: 371122********2234 | F5: =VLOOKUP(B5,[1]岚山分局!$B$3:$G$72,6,0) -> 应急处突A | G5: 日照市公安局岚山分局
A6: 4 | B6: 苏强 | C6: 男 | D6: 大专 | E6: 230223********301X | F6: =VLOOKUP(B6,[1]岚山分局!$B$3:$G$72,6,0) -> 应急处突A | G6: 日照市公安局岚山分局
A7: 5 | B7: 李铭超 | C7: 男 | D7: 大专 | E7: 371103********9317 | F7: =VLOOKUP(B7,[1]岚山分局!$B$3:$G$72,6,0) -> 应急处突A | G7: 日照市公安局岚山分局
A8: 6 | B8: 辛汶璇 | C8: 男 | D8: 大专 | E8: 371103********7114 | F8: =VLOOKUP(B8,[1]岚山分局!$B$3:$G$72,6,0) -> 应急处突A | G8: 日照市公安局岚山分局
A9: 7 | B9: 张浩 | C9: 男 | D9: 本科 | E9: 371102********8111 | F9: =VLOOKUP(B9,[1]岚山分局!$B$3:$G$72,6,0) -> 应急处突A | G9: 日照市公安局岚山分局
A10: 8 | B10: 徐浩 | C10: 男 | D10: 大专 | E10: 371102********441X | F10: =VLOOKUP(B10,[1]岚山分局!$B$3:$G$72,6,0) -> 应急处突A | G10: 日照市公安局岚山分局
A11: 9 | B11: 董丰硕 | C11: 男 | D11: 大专 | E11: 371103********3811 | F11: =VLOOKUP(B11,[1]岚山分局!$B$3:$G$72,6,0) -> 应急处突A | G11: 日照市公安局岚山分局
A12: 10 | B12: 张宝龙 | C12: 男 | D12: 大专 | E12: 371122********223X | F12: =VLOOKUP(B12,[1]岚山分局!$B$3:$G$72,6,0) -> 应急处突B | G12: 日照市公安局岚山分局
A13: 11 | B13: 葛纪旭 | C13: 男 | D13: 大专 | E13: 371102********3513 | F13: =VLOOKUP(B13,[1]岚山分局!$B$3:$G$72,6,0) -> 应急处突B | G13: 日照市公安局岚山分局
A14: 12 | B14: 王子文 | C14: 男 | D14: 本科 | E14: 371102********2513 | F14: =VLOOKUP(B14,[1]岚山分局!$B$3:$G$72,6,0) -> 警情和案件处置 | G14: 日照市公安局岚山分局
... A27: 25 | B27: 滕卓良 | C27: 男 | D27: 大专 | E27: 371102********4717 | F27: =VLOOKUP(B27,[1]岚山分局!$B$3:$G$72,6,0) -> 专项勤务 | G27: 日照市公安局岚山分局

Sheet 经开区分局
A1: 日照市公安局2026年招录警务辅助人员 进入面试范围人员名单
A2: 序号 | B2: 姓名 | C2: 性别 | D2: 学历 | E2: 身份证号 | F2: 报考职位 | G2: 用人单位
A3: 1 | B3: 万里同 | C3: 男 | D3: 研究生 | E3: 371102********0011 | F3: =VLOOKUP(B3,[1]经开区分局!$B$3:$G$62,6,0) -> 警情和案件处置A | G3: 日照市公安局日照经济技术开发区分局
A4: 2 | B4: 车畅 | C4: 男 | D4: 大专 | E4: 371122********0630 | F4: =VLOOKUP(B4,[1]经开区分局!$B$3:$G$62,6,0) -> 警情和案件处置A | G4: 日照市公安局日照经济技术开发区分局
A5: 3 | B5: 付铭禹 | C5: 男 | D5: 大专 | E5: 371102********2511 | F5: =VLOOKUP(B5,[1]经开区分局!$B$3:$G$62,6,0) -> 警情和案件处置A | G5: 日照市公安局日照经济技术开发区分局
A6: 4 | B6: 孙江涛 | C6: 男 | D6: 大专 | E6: 371122********3134 | F6: =VLOOKUP(B6,[1]经开区分局!$B$3:$G$62,6,0) -> 警情和案件处置A | G6: 日照市公安局日照经济技术开发区分局
A7: 5 | B7: 李金阳 | C7: 男 | D7: 本科 | E7: 371102********4714 | F7: =VLOOKUP(B7,[1]经开区分局!$B$3:$G$62,6,0) -> 警情和案件处置A | G7: 日照市公安局日照经济技术开发区分局
A8: 6 | B8: 李斌 | C8: 男 | D8: 大专 | E8: 371102********6537 | F8: =VLOOKUP(B8,[1]经开区分局!$B$3:$G$62,6,0) -> 警情和案件处置A | G8: 日照市公安局日照经济技术开发区分局
A9: 7 | B9: 杨耀栋 | C9: 男 | D9: 大专 | E9: 371122********1810 | F9: =VLOOKUP(B9,[1]经开区分局!$B$3:$G$62,6,0) -> 警情和案件处置A | G9: 日照市公安局日照经济技术开发区分局
A10: 8 | B10: 别宗远 | C10: 男 | D10: 大专 | E10: 371102********0551 | F10: =VLOOKUP(B10,[1]经开区分局!$B$3:$G$62,6,0) -> 警情和案件处置A | G10: 日照市公安局日照经济技术开发区分局
A11: 9 | B11: 张亚德 | C11: 男 | D11: 大专 | E11: 371103********4416 | F11: =VLOOKUP(B11,[1]经开区分局!$B$3:$G$62,6,0) -> 警情和案件处置A | G11: 日照市公安局日照经济技术开发区分局
A12: 10 | B12: 张涵 | C12: 男 | D12: 大专 | E12: 371103********3813 | F12: =VLOOKUP(B12,[1]经开区分局!$B$3:$G$62,6,0) -> 警情和案件处置A | G12: 日照市公安局日照经济技术开发区分局
A13: 11 | B13: 丁朔 | C13: 男 | D13: 大专 | E13: 371102********0011 | F13: =VLOOKUP(B13,[1]经开区分局!$B$3:$G$62,6,0) -> 警情和案件处置B | G13: 日照市公安局日照经济技术开发区分局
A14: 12 | B14: 马扬 | C14: 男 | D14: 大专 | E14: 371102********5015 | F14: =VLOOKUP(B14,[1]经开区分局!$B$3:$G$62,6,0) -> 警情和案件处置B | G14: 日照市公安局日照经济技术开发区分局
... A25: 23 | B25: 陈可欣 | C25: 女 | D25: 本科 | E25: 371102********0041 | F25: =VLOOKUP(B25,[1]经开区分局!$B$3:$G$62,6,0) -> 宣传助理 | G25: 日照市公安局日照经济技术开发区分局

Sheet 高新区分局
A1: 日照市公安局2026年招录警务辅助人员 进入面试范围人员名单
A2: 序号 | B2: 姓名 | C2: 性别 | D2: 学历 | E2: 身份证号 | F2: 报考职位 | G2: 用人单位
A3: 1 | B3: 厉帅 | C3: 男 | D3: 大专 | E3: 371102********0019 | F3: 警情和案件处置 | G3: 日照市公安局日照高新技术产业开发区分局
A4: 2 | B4: 刘丛玮 | C4: 男 | D4: 本科 | E4: 371102********0718 | F4: 警情和案件处置 | G4: 日照市公安局日照高新技术产业开发区分局
A5: 3 | B5: 刘浩林 | C5: 男 | D5: 大专 | E5: 371102********1613 | F5: 警情和案件处置 | G5: 日照市公安局日照高新技术产业开发区分局
A6: 4 | B6: 闫秀奇 | C6: 男 | D6: 大专 | E6: 371102********8436 | F6: 警情和案件处置 | G6: 日照市公安局日照高新技术产业开发区分局
A7: 5 | B7: 安泽 | C7: 男 | D7: 大专 | E7: 371102********6019 | F7: 警情和案件处置 | G7: 日照市公安局日照高新技术产业开发区分局
A8: 6 | B8: 李昕 | C8: 男 | D8: 大专 | E8: 371102********0312 | F8: 警情和案件处置 | G8: 日照市公安局日照高新技术产业开发区分局
A9: 7 | B9: 张新礼 | C9: 男 | D9: 大专 | E9: 371122********0058 | F9: 警情和案件处置 | G9: 日照市公安局日照高新技术产业开发区分局
A10: 8 | B10: 胡云梁 | C10: 男 | D10: 大专 | E10: 371121********0257 | F10: 警情和案件处置 | G10: 日照市公安局日照高新技术产业开发区分局
A11: 9 | B11: 徐云峰 | C11: 男 | D11: 大专 | E11: 371121********1012 | F11: 警情和案件处置 | G11: 日照市公安局日照高新技术产业开发区分局

Sheet 莒县公安局
A1: 日照市公安局2026年招录警务辅助人员 进入面试范围人员名单
A2: 序号 | B2: 姓名 | C2: 性别 | D2: 学历 | E2: 身份证号 | F2: 报考职位 | G2: 用人单位
A3: 1 | B3: 于子濠 | C3: 男 | D3: =VLOOKUP(B3,[2]总表!$C$4:$G$291,5,0) -> 大专 | E3: 371122********3713 | F3: 专项勤务A | G3: 莒县公安局
A4: 2 | B4: 于曰峰 | C4: 男 | D4: =VLOOKUP(B4,[2]总表!$C$4:$G$291,5,0) -> 大专 | E4: 371122********0617 | F4: 专项勤务A | G4: 莒县公安局
A5: 3 | B5: 于长泰 | C5: 男 | D5: =VLOOKUP(B5,[2]总表!$C$4:$G$291,5,0) -> 本科 | E5: 371122********7836 | F5: 专项勤务A | G5: 莒县公安局
A6: 4 | B6: 马玖翔 | C6: 男 | D6: =VLOOKUP(B6,[2]总表!$C$4:$G$291,5,0) -> 大专 | E6: 371122********6318 | F6: 专项勤务A | G6: 莒县公安局
A7: 5 | B7: 王志成 | C7: 男 | D7: =VLOOKUP(B7,[2]总表!$C$4:$G$291,5,0) -> 本科 | E7: 371122********0315 | F7: 专项勤务A | G7: 莒县公安局
A8: 6 | B8: 王国栋 | C8: 男 | D8: =VLOOKUP(B8,[2]总表!$C$4:$G$291,5,0) -> 本科 | E8: 371122********8314 | F8: 专项勤务A | G8: 莒县公安局
A9: 7 | B9: 王佳永 | C9: 男 | D9: =VLOOKUP(B9,[2]总表!$C$4:$G$291,5,0) -> 本科 | E9: 371122********2857 | F9: 专项勤务A | G9: 莒县公安局
A10: 8 | B10: 王学帅 | C10: 男 | D10: =VLOOKUP(B10,[2]总表!$C$4:$G$291,5,0) -> 大专 | E10: 371122********1815 | F10: 专项勤务A | G10: 莒县公安局
A11: 9 | B11: 王恺 | C11: 男 | D11: =VLOOKUP(B11,[2]总表!$C$4:$G$291,5,0) -> 大专 | E11: 371122********8317 | F11: 专项勤务A | G11: 莒县公安局
A12: 10 | B12: 王梓赫 | C12: 男 | D12: =VLOOKUP(B12,[2]总表!$C$4:$G$291,5,0) -> 大专 | E12: 371122********0030 | F12: 专项勤务A | G12: 莒县公安局
A13: 11 | B13: 王锦涛 | C13: 男 | D13: =VLOOKUP(B13,[2]总表!$C$4:$G$291,5,0) -> 大专 | E13: 371122********0311 | F13: 专项勤务A | G13: 莒县公安局
A14: 12 | B14: 毛云彤 | C14: 男 | D14: =VLOOKUP(B14,[2]总表!$C$4:$G$291,5,0) -> 本科 | E14: 371122********6617 | F14: 专项勤务A | G14: 莒县公安局
... A98: 96 | B98: 杜兆鑫 | C98: 男 | D98: =VLOOKUP(B98,[2]总表!$C$4:$G$291,5,0) -> 本科 | E98: 371122********1235 | F98: 专项勤务D | G98: 莒县公安局

Sheet 五莲县公安局 
A1: 日照市公安局2026年招录警务辅助人员 进入面试范围人员名单
A2: 序号 | B2: 姓名 | C2: 性别 | D2: 学历 | E2: 身份证号 | F2: 报考职位 | G2: 用人单位
A3: 1 | B3: 冯立勤 | C3: 男 | D3: =VLOOKUP(B3,[3]样表!$C$4:$H$65,5,0) -> 本科 | E3: 371121********0417 | F3: 应急处突A | G3: 五莲县公安局
A4: 2 | B4: 李承远 | C4: 男 | D4: =VLOOKUP(B4,[3]样表!$C$4:$H$65,5,0) -> 本科 | E4: 371121********0471 | F4: 应急处突A | G4: 五莲县公安局
A5: 3 | B5: 陈呈旺 | C5: 男 | D5: =VLOOKUP(B5,[3]样表!$C$4:$H$65,5,0) -> 大专 | E5: 371121********0210 | F5: 应急处突A | G5: 五莲县公安局
A6: 4 | B6: 聂茂盛 | C6: 男 | D6: =VLOOKUP(B6,[3]样表!$C$4:$H$65,5,0) -> 大专 | E6: 371121********2972 | F6: 应急处突A | G6: 五莲县公安局
A7: 5 | B7: 魏繁荣 | C7: 男 | D7: =VLOOKUP(B7,[3]样表!$C$4:$H$65,5,0) -> 大专 | E7: 371121********2975 | F7: 应急处突A | G7: 五莲县公安局
A8: 6 | B8: 孙宁 | C8: 男 | D8: =VLOOKUP(B8,[3]样表!$C$4:$H$65,5,0) -> 本科 | E8: 371121********2971 | F8: 应急处突B | G8: 五莲县公安局
A9: 7 | B9: 李良渲 | C9: 男 | D9: =VLOOKUP(B9,[3]样表!$C$4:$H$65,5,0) -> 大专 | E9: 371121********0417 | F9: 应急处突B | G9: 五莲县公安局
A10: 8 | B10: 胡明磊 | C10: 男 | D10: =VLOOKUP(B10,[3]样表!$C$4:$H$65,5,0) -> 大专 | E10: 371121********4815 | F10: 应急处突B | G10: 五莲县公安局
A11: 9 | B11: 丁徐 | C11: 男 | D11: =VLOOKUP(B11,[3]样表!$C$4:$H$65,5,0) -> 本科 | E11: 371102********291X | F11: 警情和案件处置 | G11: 五莲县公安局
A12: 10 | B12: 古全辉 | C12: 男 | D12: =VLOOKUP(B12,[3]样表!$C$4:$H$65,5,0) -> 大专 | E12: 371121********0414 | F12: 警情和案件处置 | G12: 五莲县公安局
A13: 11 | B13: 厉书宁 | C13: 男 | D13: =VLOOKUP(B13,[3]样表!$C$4:$H$65,5,0) -> 大专 | E13: 371121********043X | F13: 警情和案件处置 | G13: 五莲县公安局
A14: 12 | B14: 冯宇 | C14: 男 | D14: =VLOOKUP(B14,[3]样表!$C$4:$H$65,5,0) -> 大专 | E14: 371121********0219 | F14: 警情和案件处置 | G14: 五莲县公安局
... A33: 31 | B33: 魏道文 | C33: 男 | D33: =VLOOKUP(B33,[3]样表!$C$4:$H$65,5,0) -> 大专 | E33: 370782********7011 | F33: 警情和案件处置 | G33: 五莲县公安局
